BEGIN:VCALENDAR
VERSION:2.0
PRODID:-//Massachusetts Environmental Health Association - ECPv6.15.17.1//NONSGML v1.0//EN
CALSCALE:GREGORIAN
METHOD:PUBLISH
X-ORIGINAL-URL:https://maeha.org
X-WR-CALDESC:Events for Massachusetts Environmental Health Association
REFRESH-INTERVAL;VALUE=DURATION:PT1H
X-Robots-Tag:noindex
X-PUBLISHED-TTL:PT1H
BEGIN:VTIMEZONE
TZID:America/New_York
BEGIN:DAYLIGHT
TZOFFSETFROM:-0500
TZOFFSETTO:-0400
TZNAME:EDT
DTSTART:20250309T070000
END:DAYLIGHT
BEGIN:STANDARD
TZOFFSETFROM:-0400
TZOFFSETTO:-0500
TZNAME:EST
DTSTART:20251102T060000
END:STANDARD
BEGIN:DAYLIGHT
TZOFFSETFROM:-0500
TZOFFSETTO:-0400
TZNAME:EDT
DTSTART:20260308T070000
END:DAYLIGHT
BEGIN:STANDARD
TZOFFSETFROM:-0400
TZOFFSETTO:-0500
TZNAME:EST
DTSTART:20261101T060000
END:STANDARD
BEGIN:DAYLIGHT
TZOFFSETFROM:-0500
TZOFFSETTO:-0400
TZNAME:EDT
DTSTART:20270314T070000
END:DAYLIGHT
BEGIN:STANDARD
TZOFFSETFROM:-0400
TZOFFSETTO:-0500
TZNAME:EST
DTSTART:20271107T060000
END:STANDARD
END:VTIMEZONE
BEGIN:VEVENT
DTSTART;TZID=America/New_York:20260505T100000
DTEND;TZID=America/New_York:20260505T110000
DTSTAMP:20260422T042024
CREATED:20260403T170534Z
LAST-MODIFIED:20260421T115216Z
UID:107508-1777975200-1777978800@maeha.org
SUMMARY:Webinar: Driving Data to Local Action: Utilizing the Massachusetts Community Health Equity Initiative Data Dashboard
DESCRIPTION:May 5th from 10 – 11 am\nFree for Members\, $25 for Non – Members \nThis one-hour webinar\, hosted by MEHA in partnership with BME Strategies\, is designed to help local health departments effectively use the Community Health Equity Initiative (CHEI) Data Dashboard to advance health equity. Through practical\, case-based examples\, participants will learn how to interpret key data and apply those insights to policy and program decisions. This accredited training is free for MEHA members\, and $25 for non-members. One training credit hour will be offered for REHS/RS\, CHO\, CPH\, CHES and RN certifications.
URL:https://maeha.org/event/webinar-driving-data-to-local-action-utilizing-the-massachusetts-community-health-equity-initiative-data-dashboard/
CATEGORIES:Registration Link,Webinar
ATTACH;FMTTYPE=image/png:https://maeha.org/wp-content/uploads/2026/04/BME-Webinar-Flyer-4.17.png
END:VEVENT
BEGIN:VEVENT
DTSTART;TZID=America/New_York:20260520T083000
DTEND;TZID=America/New_York:20260520T153000
DTSTAMP:20260422T042024
CREATED:20260331T191123Z
LAST-MODIFIED:20260331T191902Z
UID:107465-1779265800-1779291000@maeha.org
SUMMARY:MEHA’s 78th Annual Seminar
DESCRIPTION:May 20th\, 8:30 – 3:30 \nCourtyard Marriott75 Felton StMarlborough\, MA \nMembers – $145Non-Members – $195Retirees – $125 \nCEUs pending
URL:https://maeha.org/event/mehas-78th-annual-seminar/
LOCATION:Courtyard Marriott\, 75 Felton St\, Marlborough\, MA\, United States
CATEGORIES:MEHA Annual,Registration Link
ATTACH;FMTTYPE=image/jpeg:https://maeha.org/wp-content/uploads/2026/03/MEHA-Annual-Seminar-2026-.jpg
END:VEVENT
END:VCALENDAR