BEGIN:VCALENDAR
VERSION:2.0
PRODID:-//Massachusetts Environmental Health Association - ECPv6.15.17.1//NONSGML v1.0//EN
CALSCALE:GREGORIAN
METHOD:PUBLISH
X-WR-CALNAME:Massachusetts Environmental Health Association
X-ORIGINAL-URL:https://maeha.org
X-WR-CALDESC:Events for Massachusetts Environmental Health Association
REFRESH-INTERVAL;VALUE=DURATION:PT1H
X-Robots-Tag:noindex
X-PUBLISHED-TTL:PT1H
BEGIN:VTIMEZONE
TZID:America/New_York
BEGIN:DAYLIGHT
TZOFFSETFROM:-0500
TZOFFSETTO:-0400
TZNAME:EDT
DTSTART:20250309T070000
END:DAYLIGHT
BEGIN:STANDARD
TZOFFSETFROM:-0400
TZOFFSETTO:-0500
TZNAME:EST
DTSTART:20251102T060000
END:STANDARD
BEGIN:DAYLIGHT
TZOFFSETFROM:-0500
TZOFFSETTO:-0400
TZNAME:EDT
DTSTART:20260308T070000
END:DAYLIGHT
BEGIN:STANDARD
TZOFFSETFROM:-0400
TZOFFSETTO:-0500
TZNAME:EST
DTSTART:20261101T060000
END:STANDARD
BEGIN:DAYLIGHT
TZOFFSETFROM:-0500
TZOFFSETTO:-0400
TZNAME:EDT
DTSTART:20270314T070000
END:DAYLIGHT
BEGIN:STANDARD
TZOFFSETFROM:-0400
TZOFFSETTO:-0500
TZNAME:EST
DTSTART:20271107T060000
END:STANDARD
END:VTIMEZONE
BEGIN:VEVENT
DTSTART;TZID=America/New_York:20260311T120000
DTEND;TZID=America/New_York:20260311T130000
DTSTAMP:20260421T120929
CREATED:20260213T203213Z
LAST-MODIFIED:20260226T173920Z
UID:106212-1773230400-1773234000@maeha.org
SUMMARY:Implementing Kratom Regulations at the Local Level - Webinar
DESCRIPTION:Wednesday\, March 11\n12:00 PM – 1:00 PM \nThis one-hour webinar will review the legal landscape regarding the sale of kratom\, an unregulated plant-based substance commonly sold and used for its psychological and physiological effects. Attendees will learn about the power municipalities have to regulate kratom\, and hear from local public health officials with firsthand experience adopting and enforcing regulations. \nWith presentations by:\nCheryl Sbarra\, MAHB Executive Director and Senior Staff Attorney \nMerridith O’Leary\, Northampton Health Commissioner\nMargaret Goldstein\, Canton Director of Public Health \nCEUs available for CHO\, CPH and REHS/RS
URL:https://maeha.org/event/implementing-kratom-regulations-at-the-local-level-webinar/
CATEGORIES:Registration Link,Webinar
ATTACH;FMTTYPE=image/jpeg:https://maeha.org/wp-content/uploads/2026/02/MEHA-Kratom-Webinar-March-11.jpg
END:VEVENT
END:VCALENDAR